BEGIN:VCALENDAR
VERSION:2.0
PRODID:-//RCI Tech - ECPv6.15.20//NONSGML v1.0//EN
CALSCALE:GREGORIAN
METHOD:PUBLISH
X-ORIGINAL-URL:https://rcitech.com
X-WR-CALDESC:Events for RCI Tech
REFRESH-INTERVAL;VALUE=DURATION:PT1H
X-Robots-Tag:noindex
X-PUBLISHED-TTL:PT1H
BEGIN:VTIMEZONE
TZID:America/Chicago
BEGIN:DAYLIGHT
TZOFFSETFROM:-0600
TZOFFSETTO:-0500
TZNAME:CDT
DTSTART:20230312T080000
END:DAYLIGHT
BEGIN:STANDARD
TZOFFSETFROM:-0500
TZOFFSETTO:-0600
TZNAME:CST
DTSTART:20231105T070000
END:STANDARD
BEGIN:DAYLIGHT
TZOFFSETFROM:-0600
TZOFFSETTO:-0500
TZNAME:CDT
DTSTART:20240310T080000
END:DAYLIGHT
BEGIN:STANDARD
TZOFFSETFROM:-0500
TZOFFSETTO:-0600
TZNAME:CST
DTSTART:20241103T070000
END:STANDARD
BEGIN:DAYLIGHT
TZOFFSETFROM:-0600
TZOFFSETTO:-0500
TZNAME:CDT
DTSTART:20250309T080000
END:DAYLIGHT
BEGIN:STANDARD
TZOFFSETFROM:-0500
TZOFFSETTO:-0600
TZNAME:CST
DTSTART:20251102T070000
END:STANDARD
END:VTIMEZONE
BEGIN:VEVENT
DTSTART;VALUE=DATE:20240911
DTEND;VALUE=DATE:20240914
DTSTAMP:20260424T161538
CREATED:20240130T150536Z
LAST-MODIFIED:20240130T150723Z
UID:6225-1726012800-1726271999@rcitech.com
SUMMARY:NMNASO Conference (New Mexico Association of School Business Officials) Albuquerque\, NM
DESCRIPTION:
URL:https://rcitech.com/event/nmnaso-conference-new-mexico-association-of-school-business-officials-albuquerque-nm/
END:VEVENT
BEGIN:VEVENT
DTSTART;VALUE=DATE:20240911
DTEND;VALUE=DATE:20240914
DTSTAMP:20260424T161538
CREATED:20240311T111626Z
LAST-MODIFIED:20240913T161020Z
UID:6371-1726012800-1726271999@rcitech.com
SUMMARY:NMNASO (New Mexico Association of School Business Officials)
DESCRIPTION:
URL:https://rcitech.com/event/nmnaso-new-mexico-association-of-school-business-officials/
LOCATION:Albuquerque\, NM
CATEGORIES:Events
END:VEVENT
BEGIN:VEVENT
DTSTART;VALUE=DATE:20240918
DTEND;VALUE=DATE:20240922
DTSTAMP:20260424T161538
CREATED:20240130T150820Z
LAST-MODIFIED:20240130T150820Z
UID:6227-1726617600-1726963199@rcitech.com
SUMMARY:ASBO Conference (Association of School Business Officials International) Nashville\, TN
DESCRIPTION:
URL:https://rcitech.com/event/asbo-conference-association-of-school-business-officials-international-nashville-tn/
END:VEVENT
BEGIN:VEVENT
DTSTART;VALUE=DATE:20240918
DTEND;VALUE=DATE:20240922
DTSTAMP:20260424T161538
CREATED:20240318T133117Z
LAST-MODIFIED:20240921T183524Z
UID:6400-1726617600-1726963199@rcitech.com
SUMMARY:ASBO (Association of School Business Officials International)
DESCRIPTION:
URL:https://rcitech.com/event/asbo-association-of-school-business-officials-international/
LOCATION:Nashville\, TN
CATEGORIES:Events
END:VEVENT
BEGIN:VEVENT
DTSTART;VALUE=DATE:20240923
DTEND;VALUE=DATE:20240925
DTSTAMP:20260424T161538
CREATED:20240130T150922Z
LAST-MODIFIED:20240130T150922Z
UID:6229-1727049600-1727222399@rcitech.com
SUMMARY:CCBO Conference (Community College Business Officers) Savannah\, GA
DESCRIPTION:
URL:https://rcitech.com/event/ccbo-conference-community-college-business-officers-savannah-ga/
END:VEVENT
BEGIN:VEVENT
DTSTART;VALUE=DATE:20240923
DTEND;VALUE=DATE:20240925
DTSTAMP:20260424T161538
CREATED:20240323T144603Z
LAST-MODIFIED:20240924T194022Z
UID:6409-1727049600-1727222399@rcitech.com
SUMMARY:CCBO (Community College Business Officers)
DESCRIPTION:
URL:https://rcitech.com/event/ccbo-community-college-business-officers-2/
LOCATION:Savannah\, GA
CATEGORIES:Events
END:VEVENT
END:VCALENDAR