BEGIN:VCALENDAR
VERSION:2.0
PRODID:-//RCI Tech - ECPv6.15.20//NONSGML v1.0//EN
CALSCALE:GREGORIAN
METHOD:PUBLISH
X-WR-CALNAME:RCI Tech
X-ORIGINAL-URL:https://rcitech.com
X-WR-CALDESC:Events for RCI Tech
REFRESH-INTERVAL;VALUE=DURATION:PT1H
X-Robots-Tag:noindex
X-PUBLISHED-TTL:PT1H
BEGIN:VTIMEZONE
TZID:America/Chicago
BEGIN:DAYLIGHT
TZOFFSETFROM:-0600
TZOFFSETTO:-0500
TZNAME:CDT
DTSTART:20210314T080000
END:DAYLIGHT
BEGIN:STANDARD
TZOFFSETFROM:-0500
TZOFFSETTO:-0600
TZNAME:CST
DTSTART:20211107T070000
END:STANDARD
BEGIN:DAYLIGHT
TZOFFSETFROM:-0600
TZOFFSETTO:-0500
TZNAME:CDT
DTSTART:20220313T080000
END:DAYLIGHT
BEGIN:STANDARD
TZOFFSETFROM:-0500
TZOFFSETTO:-0600
TZNAME:CST
DTSTART:20221106T070000
END:STANDARD
BEGIN:DAYLIGHT
TZOFFSETFROM:-0600
TZOFFSETTO:-0500
TZNAME:CDT
DTSTART:20230312T080000
END:DAYLIGHT
BEGIN:STANDARD
TZOFFSETFROM:-0500
TZOFFSETTO:-0600
TZNAME:CST
DTSTART:20231105T070000
END:STANDARD
BEGIN:DAYLIGHT
TZOFFSETFROM:-0600
TZOFFSETTO:-0500
TZNAME:CDT
DTSTART:20240310T080000
END:DAYLIGHT
BEGIN:STANDARD
TZOFFSETFROM:-0500
TZOFFSETTO:-0600
TZNAME:CST
DTSTART:20241103T070000
END:STANDARD
END:VTIMEZONE
BEGIN:VEVENT
DTSTART;VALUE=DATE:20231017
DTEND;VALUE=DATE:20231021
DTSTAMP:20260425T090526
CREATED:20230417T211611Z
LAST-MODIFIED:20230425T234032Z
UID:5944-1697500800-1697846399@rcitech.com
SUMMARY:TAC (Texas Association of County Auditors) Fall Conference\, South Padre\, TX
DESCRIPTION:
URL:https://rcitech.com/event/tac-texas-association-of-county-auditors-fall-conference-south-padre-tx/
LOCATION:South Padre
CATEGORIES:Events
END:VEVENT
BEGIN:VEVENT
DTSTART;VALUE=DATE:20231004
DTEND;VALUE=DATE:20231007
DTSTAMP:20260425T090526
CREATED:20230404T174626Z
LAST-MODIFIED:20230425T234032Z
UID:5927-1696377600-1696636799@rcitech.com
SUMMARY:TML (Texas Municipal League) Dallas\, TX
DESCRIPTION:
URL:https://rcitech.com/event/tml-texas-municipal-league-dallas-tx/
LOCATION:Dallas TX
CATEGORIES:Events
END:VEVENT
BEGIN:VEVENT
DTSTART;VALUE=DATE:20230925
DTEND;VALUE=DATE:20230928
DTSTAMP:20260425T090526
CREATED:20230325T150047Z
LAST-MODIFIED:20230425T234032Z
UID:5907-1695600000-1695859199@rcitech.com
SUMMARY:CCBO (Community College Business Officers) 	San Diego\, CA
DESCRIPTION:
URL:https://rcitech.com/event/ccbo-community-college-business-officers-san-diego-ca/
LOCATION:San Diego\, CA
CATEGORIES:Events
END:VEVENT
BEGIN:VEVENT
DTSTART;VALUE=DATE:20230925
DTEND;VALUE=DATE:20230928
DTSTAMP:20260425T090526
CREATED:20230325T150047Z
LAST-MODIFIED:20230425T234032Z
UID:5908-1695600000-1695859199@rcitech.com
SUMMARY:Texas Charter Schools Annual Conference   	Austin\, TX
DESCRIPTION:
URL:https://rcitech.com/event/texas-charter-schools-annual-conference-austin-tx/
LOCATION:Austin\, TX
CATEGORIES:Events
END:VEVENT
BEGIN:VEVENT
DTSTART;VALUE=DATE:20230920
DTEND;VALUE=DATE:20230923
DTSTAMP:20260425T090526
CREATED:20230320T134543Z
LAST-MODIFIED:20230425T234031Z
UID:5898-1695168000-1695427199@rcitech.com
SUMMARY:CCLC (League of California Cities) Sacramento\, CA
DESCRIPTION:
URL:https://rcitech.com/event/cclc-league-of-california-cities-sacramento-ca/
LOCATION:Sacramento\, CA
CATEGORIES:Events
END:VEVENT
BEGIN:VEVENT
DTSTART;VALUE=DATE:20230918
DTEND;VALUE=DATE:20230922
DTSTAMP:20260425T090526
CREATED:20230318T130057Z
LAST-MODIFIED:20230425T234031Z
UID:5892-1694995200-1695340799@rcitech.com
SUMMARY:CTAT (County Treasurers’ Association Annual Conference)\, McAllen\, TX
DESCRIPTION:
URL:https://rcitech.com/event/ctat-county-treasurers-association-annual-conference-mcallen-tx/
LOCATION:McAllen\, TX
CATEGORIES:Events
END:VEVENT
BEGIN:VEVENT
DTSTART;VALUE=DATE:20230913
DTEND;VALUE=DATE:20230916
DTSTAMP:20260425T090526
CREATED:20230313T113030Z
LAST-MODIFIED:20230425T234031Z
UID:5879-1694563200-1694822399@rcitech.com
SUMMARY:NMNASO (New Mexico Association of School Business Officials) Albuquerque\, NM
DESCRIPTION:
URL:https://rcitech.com/event/nmnaso-new-mexico-association-of-school-business-officials-albuquerque-nm/
LOCATION:Albuquerque\, NM
CATEGORIES:Events
END:VEVENT
BEGIN:VEVENT
DTSTART;VALUE=DATE:20230830
DTEND;VALUE=DATE:20230902
DTSTAMP:20260425T090526
CREATED:20230301T081631Z
LAST-MODIFIED:20230425T234031Z
UID:5863-1693353600-1693612799@rcitech.com
SUMMARY:TAC Annual Conference (Texas Association of Counties Annual Legislative) Austin\, TX
DESCRIPTION:
URL:https://rcitech.com/event/tac-annual-conference-texas-association-of-counties-annual-legislative-austin-tx/
LOCATION:Austin\, TX
CATEGORIES:Events
END:VEVENT
BEGIN:VEVENT
DTSTART;VALUE=DATE:20230809
DTEND;VALUE=DATE:20230812
DTSTAMP:20260425T090526
CREATED:20230210T031535Z
LAST-MODIFIED:20230425T234031Z
UID:5831-1691539200-1691798399@rcitech.com
SUMMARY:AAC (Arkansas Association of Arkansas Counties) Hot Springs\, ARKANSAS
DESCRIPTION:
URL:https://rcitech.com/event/aac-arkansas-association-of-arkansas-counties-hot-springs-arkansas/
LOCATION:Hot Springs\, ARKANSAS
CATEGORIES:Events
END:VEVENT
BEGIN:VEVENT
DTSTART;VALUE=DATE:20230713
DTEND;VALUE=DATE:20230716
DTSTAMP:20260425T090526
CREATED:20230113T115107Z
LAST-MODIFIED:20230425T234031Z
UID:5782-1689206400-1689465599@rcitech.com
SUMMARY:TASPA (Texas Assoc. of School Personnel Administrators) Round Rock TX
DESCRIPTION:TASPA (Texas Assoc. of School Personnel Administrators) Round Rock TX
URL:https://rcitech.com/event/taspa-texas-assoc-of-school-personnel-administrators-round-rock-tx/
LOCATION:Round Rock (Round Rock\, Texas)
CATEGORIES:Events
END:VEVENT
BEGIN:VEVENT
DTSTART;VALUE=DATE:20230612
DTEND;VALUE=DATE:20230615
DTSTAMP:20260425T090526
CREATED:20221221T215050Z
LAST-MODIFIED:20230425T234031Z
UID:5720-1686528000-1686787199@rcitech.com
SUMMARY:2023 TASBO Summer Conference (Texas Association of School Business Officials) Galveston\, TX
DESCRIPTION:
URL:https://rcitech.com/event/2023-tasbo-summer-conference-texas-association-of-school-business-officials-galveston-tx/
LOCATION:Galveston\, TX
CATEGORIES:Events
END:VEVENT
BEGIN:VEVENT
DTSTART;VALUE=DATE:20230611
DTEND;VALUE=DATE:20230615
DTSTAMP:20260425T090526
CREATED:20221221T215050Z
LAST-MODIFIED:20230425T234031Z
UID:5718-1686441600-1686787199@rcitech.com
SUMMARY:TACCBO (Texas Association of Community College Business Officers) Galveston\, TX
DESCRIPTION:
URL:https://rcitech.com/event/taccbo-texas-association-of-community-college-business-officers-galveston-tx/
LOCATION:Galveston\, TX
CATEGORIES:Events
END:VEVENT
BEGIN:VEVENT
DTSTART;VALUE=DATE:20230604
DTEND;VALUE=DATE:20230608
DTSTAMP:20260425T090526
CREATED:20221221T215050Z
LAST-MODIFIED:20230425T234031Z
UID:5716-1685836800-1686182399@rcitech.com
SUMMARY:TACA – (Tax Assessor Collectors Association) Dallas\, TX
DESCRIPTION:
URL:https://rcitech.com/event/taca-tax-assessor-collectors-association-dallas-tx/
LOCATION:Dallas\, TX
CATEGORIES:Events
END:VEVENT
BEGIN:VEVENT
DTSTART;VALUE=DATE:20230521
DTEND;VALUE=DATE:20230525
DTSTAMP:20260425T090526
CREATED:20221221T215050Z
LAST-MODIFIED:20230425T234030Z
UID:5714-1684627200-1684972799@rcitech.com
SUMMARY:GFOA (Government Finance Officers Association) Portland\, Oregon
DESCRIPTION:
URL:https://rcitech.com/event/gfoa-government-finance-officers-association-portland-oregon/
LOCATION:Portland Oregon
CATEGORIES:Events
END:VEVENT
BEGIN:VEVENT
DTSTART;VALUE=DATE:20230508
DTEND;VALUE=DATE:20230512
DTSTAMP:20260425T090526
CREATED:20221221T215050Z
LAST-MODIFIED:20230425T234030Z
UID:5712-1683504000-1683849599@rcitech.com
SUMMARY:TxPPA  (Texas Public Purchasing Association) Waco\, Texas
DESCRIPTION:
URL:https://rcitech.com/event/txppa-texas-public-purchasing-association-waco-texas/
LOCATION:Waco\, TX
CATEGORIES:Events
END:VEVENT
BEGIN:VEVENT
DTSTART;VALUE=DATE:20230502
DTEND;VALUE=DATE:20230506
DTSTAMP:20260425T090526
CREATED:20221221T215050Z
LAST-MODIFIED:20230425T234030Z
UID:5710-1682985600-1683331199@rcitech.com
SUMMARY:TACA  (Texas Association County Auditors- May Institute)  Austin\, TX
DESCRIPTION:
URL:https://rcitech.com/event/taca-texas-association-county-auditors-may-institute-austin-tx/
LOCATION:Austin Tx
CATEGORIES:Events
END:VEVENT
BEGIN:VEVENT
DTSTART;VALUE=DATE:20230426
DTEND;VALUE=DATE:20230428
DTSTAMP:20260425T090526
CREATED:20221221T215049Z
LAST-MODIFIED:20230425T234030Z
UID:5708-1682467200-1682639999@rcitech.com
SUMMARY:OASBO  (Oklahoma Association of School Business Officials) Norman Oklahoma
DESCRIPTION:
URL:https://rcitech.com/event/oasbo-oklahoma-association-of-school-business-officials-norman-oklahoma/
LOCATION:Norman Oklahoma
CATEGORIES:Events
END:VEVENT
BEGIN:VEVENT
DTSTART;VALUE=DATE:20230419
DTEND;VALUE=DATE:20230422
DTSTAMP:20260425T090526
CREATED:20221221T215049Z
LAST-MODIFIED:20230421T223548Z
UID:5706-1681862400-1682121599@rcitech.com
SUMMARY:CASBO  (Colorado Association of School Business Officials) Pueblo\, Colorado
DESCRIPTION:
URL:https://rcitech.com/event/casbo-colorado-association-of-school-business-officials-pueblo-colorado/
LOCATION:Pueblo\, Colorado
CATEGORIES:Events
END:VEVENT
BEGIN:VEVENT
DTSTART;VALUE=DATE:20230405
DTEND;VALUE=DATE:20230408
DTSTAMP:20260425T090526
CREATED:20221221T215049Z
LAST-MODIFIED:20230407T184031Z
UID:5704-1680652800-1680911999@rcitech.com
SUMMARY:CASBO  (California Association of School Business Officials) Long Beach\, CA
DESCRIPTION:
URL:https://rcitech.com/event/casbo-california-association-of-school-business-officials-long-beach-ca/
LOCATION:Long Beach\, CA
CATEGORIES:Events
END:VEVENT
BEGIN:VEVENT
DTSTART;VALUE=DATE:20230313
DTEND;VALUE=DATE:20230317
DTSTAMP:20260425T090526
CREATED:20221221T215049Z
LAST-MODIFIED:20230316T124024Z
UID:5702-1678665600-1679011199@rcitech.com
SUMMARY:CCSA (California Charter School Association) Sacramento\, CA
DESCRIPTION:
URL:https://rcitech.com/event/ccsa-california-charter-school-association-sacramento-ca/
LOCATION:Sacramento \, CA
CATEGORIES:Events
END:VEVENT
BEGIN:VEVENT
DTSTART;VALUE=DATE:20230222
DTEND;VALUE=DATE:20230225
DTSTAMP:20260425T090526
CREATED:20221221T215049Z
LAST-MODIFIED:20230224T072548Z
UID:5700-1677024000-1677283199@rcitech.com
SUMMARY:ACCCA (Association of California Comm. College Admin.)\, Omni Rancho Mirage\, CA
DESCRIPTION:
URL:https://rcitech.com/event/accca-association-of-california-comm-college-admin-omni-rancho-mirage-ca/
LOCATION:Omni Rancho Las Palmas Resort & Spa (41000 Bob Hope Dr\, Rancho Mirage\, CA  92270)
CATEGORIES:Events
END:VEVENT
BEGIN:VEVENT
DTSTART;VALUE=DATE:20230216
DTEND;VALUE=DATE:20230219
DTSTAMP:20260425T090526
CREATED:20221221T215049Z
LAST-MODIFIED:20230218T055547Z
UID:5698-1676505600-1676764799@rcitech.com
SUMMARY:NASBO (New Mexico Association of School Business Officials) New Mexico
DESCRIPTION:
URL:https://rcitech.com/event/nasbo-new-mexico-association-of-school-business-officials-new-mexico/
LOCATION:New Mexico
CATEGORIES:Events
END:VEVENT
BEGIN:VEVENT
DTSTART;VALUE=DATE:20230213
DTEND;VALUE=DATE:20230218
DTSTAMP:20260425T090526
CREATED:20221221T215049Z
LAST-MODIFIED:20230217T054033Z
UID:5696-1676246400-1676678399@rcitech.com
SUMMARY:TASBO Annual Convention (Texas Association of School Business Officials) Austin\, TX
DESCRIPTION:
URL:https://rcitech.com/event/tasbo-annual-convention-texas-association-of-school-business-officials-austin-tx/
LOCATION:Henry B. Gonzalez Convention Center (900 E Market St\, San Antonio\, TX  78205)
CATEGORIES:Events
END:VEVENT
BEGIN:VEVENT
DTSTART;VALUE=DATE:20230129
DTEND;VALUE=DATE:20230201
DTSTAMP:20260425T090526
CREATED:20221221T215049Z
LAST-MODIFIED:20230131T010035Z
UID:5694-1674950400-1675209599@rcitech.com
SUMMARY:TASA  Midwinter Conference  (TX Association of School Administrators )
DESCRIPTION:
URL:https://rcitech.com/event/tasa-midwinter-conference-tx-association-of-school-administrators/
LOCATION:Austin Convention Center (500 E Cesar Chavez St\, Austin\, TX  78701)
CATEGORIES:Events
END:VEVENT
BEGIN:VEVENT
DTSTART;VALUE=DATE:20230124
DTEND;VALUE=DATE:20230128
DTSTAMP:20260425T090526
CREATED:20221221T215049Z
LAST-MODIFIED:20230127T000028Z
UID:5692-1674518400-1674863999@rcitech.com
SUMMARY:CDCAT Winter Conference (County & District Clerks Association of TX) Denton\, TX
DESCRIPTION:
URL:https://rcitech.com/event/cdcat-winter-conference-county-district-clerks-association-of-tx-denton-tx/
LOCATION:Embassy Suites by Hilton Denton Convention Center (3100 Town Center Trail\, Denton\, TX  76201)
CATEGORIES:Events
END:VEVENT
BEGIN:VEVENT
DTSTART;VALUE=DATE:20230119
DTEND;VALUE=DATE:20230123
DTSTAMP:20260425T090526
CREATED:20221221T215048Z
LAST-MODIFIED:20230117T234048Z
UID:5690-1674086400-1674431999@rcitech.com
SUMMARY:NBOA (National Business Officers Association)\, Los Angeles California
DESCRIPTION:
URL:https://rcitech.com/event/nboa-national-business-officers-association-los-angeles-california/
LOCATION:Los Angeles\, CA
CATEGORIES:Events
END:VEVENT
BEGIN:VEVENT
DTSTART;VALUE=DATE:20230111
DTEND;VALUE=DATE:20230114
DTSTAMP:20260425T090526
CREATED:20221221T215048Z
LAST-MODIFIED:20230113T142013Z
UID:5688-1673395200-1673654399@rcitech.com
SUMMARY:1/11- 1/13/2023  TMCA Annual Conference (Texas Municipal Clerks Association)
DESCRIPTION:
URL:https://rcitech.com/event/1-11-1-13-2023-tmca-annual-conference-texas-municipal-clerks-association/
LOCATION:Embassy Suites by Hilton Denton Convention Center (3100 Town Center Trail\, Denton\, TX  76201)
CATEGORIES:Events
END:VEVENT
BEGIN:VEVENT
DTSTART;VALUE=DATE:20221214
DTEND;VALUE=DATE:20221217
DTSTAMP:20260425T090526
CREATED:20220614T053059Z
LAST-MODIFIED:20221216T040525Z
UID:5232-1670976000-1671235199@rcitech.com
SUMMARY:TASPA - Texas Association of School Personnel Administrators
DESCRIPTION:
URL:https://rcitech.com/event/taspa-texas-association-of-school-personnel-administrators/
LOCATION:Round Rock (Round Rock\, Texas)
CATEGORIES:Events
END:VEVENT
BEGIN:VEVENT
DTSTART;TZID=America/Chicago:20221108T100000
DTEND;TZID=America/Chicago:20221108T110000
DTSTAMP:20260425T090526
CREATED:20221108T074530Z
LAST-MODIFIED:20221108T074530Z
UID:5613-1667901600-1667905200@rcitech.com
SUMMARY:2023 Events
DESCRIPTION:
URL:https://rcitech.com/event/2023-events/
LOCATION:Chris’s Office
CATEGORIES:Events
END:VEVENT
BEGIN:VEVENT
DTSTART;VALUE=DATE:20221102
DTEND;VALUE=DATE:20221105
DTSTAMP:20260425T090526
CREATED:20220502T173103Z
LAST-MODIFIED:20221104T091555Z
UID:5167-1667347200-1667606399@rcitech.com
SUMMARY:GFOAT - Government Finance Officers Association
DESCRIPTION:
URL:https://rcitech.com/event/gfoat-government-finance-officers-association-2/
LOCATION:San Antonio (San Antonio\, Texas)
CATEGORIES:Events
END:VEVENT
END:VCALENDAR