BEGIN:VCALENDAR
VERSION:2.0
PRODID:-//RCI Tech - ECPv6.15.20//NONSGML v1.0//EN
CALSCALE:GREGORIAN
METHOD:PUBLISH
X-WR-CALNAME:RCI Tech
X-ORIGINAL-URL:https://rcitech.com
X-WR-CALDESC:Events for RCI Tech
REFRESH-INTERVAL;VALUE=DURATION:PT1H
X-Robots-Tag:noindex
X-PUBLISHED-TTL:PT1H
BEGIN:VTIMEZONE
TZID:America/Chicago
BEGIN:DAYLIGHT
TZOFFSETFROM:-0600
TZOFFSETTO:-0500
TZNAME:CDT
DTSTART:20220313T080000
END:DAYLIGHT
BEGIN:STANDARD
TZOFFSETFROM:-0500
TZOFFSETTO:-0600
TZNAME:CST
DTSTART:20221106T070000
END:STANDARD
BEGIN:DAYLIGHT
TZOFFSETFROM:-0600
TZOFFSETTO:-0500
TZNAME:CDT
DTSTART:20230312T080000
END:DAYLIGHT
BEGIN:STANDARD
TZOFFSETFROM:-0500
TZOFFSETTO:-0600
TZNAME:CST
DTSTART:20231105T070000
END:STANDARD
BEGIN:DAYLIGHT
TZOFFSETFROM:-0600
TZOFFSETTO:-0500
TZNAME:CDT
DTSTART:20240310T080000
END:DAYLIGHT
BEGIN:STANDARD
TZOFFSETFROM:-0500
TZOFFSETTO:-0600
TZNAME:CST
DTSTART:20241103T070000
END:STANDARD
BEGIN:DAYLIGHT
TZOFFSETFROM:-0600
TZOFFSETTO:-0500
TZNAME:CDT
DTSTART:20250309T080000
END:DAYLIGHT
BEGIN:STANDARD
TZOFFSETFROM:-0500
TZOFFSETTO:-0600
TZNAME:CST
DTSTART:20251102T070000
END:STANDARD
END:VTIMEZONE
BEGIN:VEVENT
DTSTART;VALUE=DATE:20240422
DTEND;VALUE=DATE:20240424
DTSTAMP:20260424T111239
CREATED:20240201T013110Z
LAST-MODIFIED:20240423T231511Z
UID:6265-1713744000-1713916799@rcitech.com
SUMMARY:UASBO  (Utah Association of School Business Officers)
DESCRIPTION:
URL:https://rcitech.com/event/uasbo-utah-association-of-school-business-officers/
LOCATION:Provo\, UT
CATEGORIES:Events
END:VEVENT
BEGIN:VEVENT
DTSTART;VALUE=DATE:20240422
DTEND;VALUE=DATE:20240424
DTSTAMP:20260424T111239
CREATED:20240130T145003Z
LAST-MODIFIED:20240130T145003Z
UID:6197-1713744000-1713916799@rcitech.com
SUMMARY:UASBO  (Utah Association of School Business Officers)  Provo\, UT
DESCRIPTION:
URL:https://rcitech.com/event/uasbo-utah-association-of-school-business-officers-provo-ut/
END:VEVENT
BEGIN:VEVENT
DTSTART;VALUE=DATE:20240416
DTEND;VALUE=DATE:20240420
DTSTAMP:20260424T111239
CREATED:20240201T013058Z
LAST-MODIFIED:20240419T221033Z
UID:6261-1713225600-1713571199@rcitech.com
SUMMARY:TACA  May Institute (Texas Association County Auditors- May Institute)
DESCRIPTION:
URL:https://rcitech.com/event/taca-may-institute-texas-association-county-auditors-may-institute/
LOCATION:College Station\, TX
CATEGORIES:Events
END:VEVENT
BEGIN:VEVENT
DTSTART;VALUE=DATE:20240416
DTEND;VALUE=DATE:20240420
DTSTAMP:20260424T111239
CREATED:20240130T143716Z
LAST-MODIFIED:20240130T144714Z
UID:6193-1713225600-1713571199@rcitech.com
SUMMARY:TACA (Texas Association County Auditors - May Institute)  College Station\, TX
DESCRIPTION:
URL:https://rcitech.com/event/taca-texas-association-county-auditors-may-institute-college-station-tx/
END:VEVENT
BEGIN:VEVENT
DTSTART;VALUE=DATE:20240416
DTEND;VALUE=DATE:20240419
DTSTAMP:20260424T111239
CREATED:20240201T013058Z
LAST-MODIFIED:20240418T215513Z
UID:6263-1713225600-1713484799@rcitech.com
SUMMARY:SASBO  (Southeastern Association of School Business Officers)
DESCRIPTION:
URL:https://rcitech.com/event/sasbo-southeastern-association-of-school-business-officers/
LOCATION:Greenville\, SC
CATEGORIES:Events
END:VEVENT
BEGIN:VEVENT
DTSTART;VALUE=DATE:20240416
DTEND;VALUE=DATE:20240419
DTSTAMP:20260424T111239
CREATED:20240130T144827Z
LAST-MODIFIED:20240130T144827Z
UID:6195-1713225600-1713484799@rcitech.com
SUMMARY:SASBO (Southeastern Association of School Business Officers) \, Greenville\, SC
DESCRIPTION:
URL:https://rcitech.com/event/sasbo-southeastern-association-of-school-business-officers-greenville-sc/
END:VEVENT
BEGIN:VEVENT
DTSTART;VALUE=DATE:20240407
DTEND;VALUE=DATE:20240411
DTSTAMP:20260424T111239
CREATED:20240201T013058Z
LAST-MODIFIED:20240410T194043Z
UID:6259-1712448000-1712793599@rcitech.com
SUMMARY:CASBO  (California Association of School Business Officials)
DESCRIPTION:
URL:https://rcitech.com/event/casbo-california-association-of-school-business-officials/
LOCATION:Palm Springs\,  CA
CATEGORIES:Events
END:VEVENT
BEGIN:VEVENT
DTSTART;VALUE=DATE:20240407
DTEND;VALUE=DATE:20240411
DTSTAMP:20260424T111239
CREATED:20240130T143619Z
LAST-MODIFIED:20240130T143619Z
UID:6191-1712448000-1712793599@rcitech.com
SUMMARY:CASBO (California Association of School Business Officials) Palm Springs\,  CA
DESCRIPTION:
URL:https://rcitech.com/event/casbo-california-association-of-school-business-officials-palm-springs-ca/
END:VEVENT
BEGIN:VEVENT
DTSTART;VALUE=DATE:20240319
DTEND;VALUE=DATE:20240321
DTSTAMP:20260424T111239
CREATED:20240201T013058Z
LAST-MODIFIED:20240320T141019Z
UID:6257-1710806400-1710979199@rcitech.com
SUMMARY:CCSA (California Charter School Association)
DESCRIPTION:
URL:https://rcitech.com/event/ccsa-california-charter-school-association/
LOCATION:Longbeach\, CA
CATEGORIES:Events
END:VEVENT
BEGIN:VEVENT
DTSTART;VALUE=DATE:20240319
DTEND;VALUE=DATE:20240321
DTSTAMP:20260424T111239
CREATED:20240130T143512Z
LAST-MODIFIED:20240130T143512Z
UID:6189-1710806400-1710979199@rcitech.com
SUMMARY:CCSA (California Charter School Association) Long Beach\, CA
DESCRIPTION:
URL:https://rcitech.com/event/ccsa-california-charter-school-association-long-beach-ca/
END:VEVENT
BEGIN:VEVENT
DTSTART;VALUE=DATE:20240225
DTEND;VALUE=DATE:20240229
DTSTAMP:20260424T111239
CREATED:20240201T013058Z
LAST-MODIFIED:20240228T082513Z
UID:6255-1708819200-1709164799@rcitech.com
SUMMARY:NBOA (National Business Officers Association)
DESCRIPTION:
URL:https://rcitech.com/event/nboa-national-business-officers-association/
LOCATION:Atlanta\, GA
CATEGORIES:Events
END:VEVENT
BEGIN:VEVENT
DTSTART;VALUE=DATE:20240225
DTEND;VALUE=DATE:20240229
DTSTAMP:20260424T111239
CREATED:20240130T143307Z
LAST-MODIFIED:20240130T143307Z
UID:6187-1708819200-1709164799@rcitech.com
SUMMARY:NBOA (National Business Officers Association) Atlanta\, GA
DESCRIPTION:
URL:https://rcitech.com/event/nboa-national-business-officers-association-atlanta-ga/
END:VEVENT
BEGIN:VEVENT
DTSTART;VALUE=DATE:20240221
DTEND;VALUE=DATE:20240224
DTSTAMP:20260424T111239
CREATED:20240201T013058Z
LAST-MODIFIED:20240223T071031Z
UID:6253-1708473600-1708732799@rcitech.com
SUMMARY:ACCCA  (Association of California Community College Admin.)
DESCRIPTION:
URL:https://rcitech.com/event/accca-association-of-california-community-college-admin/
LOCATION:Fairfield by Marriott Anaheim Resort (1460 S Harbor Blvd\, Anaheim\, CA  92802)
CATEGORIES:Events
END:VEVENT
BEGIN:VEVENT
DTSTART;VALUE=DATE:20240221
DTEND;VALUE=DATE:20240224
DTSTAMP:20260424T111239
CREATED:20240130T143224Z
LAST-MODIFIED:20240130T143224Z
UID:6185-1708473600-1708732799@rcitech.com
SUMMARY:ACCCA (Association of California Community College Admin.)  Anaheim\, CA
DESCRIPTION:
URL:https://rcitech.com/event/accca-association-of-california-community-college-admin-anaheim-ca/
END:VEVENT
BEGIN:VEVENT
DTSTART;VALUE=DATE:20240219
DTEND;VALUE=DATE:20240224
DTSTAMP:20260424T111239
CREATED:20240201T013058Z
LAST-MODIFIED:20240223T071031Z
UID:6251-1708300800-1708732799@rcitech.com
SUMMARY:TASBO Annual Convention (Texas Association of School Business Officials)
DESCRIPTION:
URL:https://rcitech.com/event/tasbo-annual-convention-texas-association-of-school-business-officials/
LOCATION:Houston\, TX
CATEGORIES:Events
END:VEVENT
BEGIN:VEVENT
DTSTART;VALUE=DATE:20240219
DTEND;VALUE=DATE:20240224
DTSTAMP:20260424T111239
CREATED:20240130T143124Z
LAST-MODIFIED:20240130T143124Z
UID:6183-1708300800-1708732799@rcitech.com
SUMMARY:TASBO Annual Convention (Texas Association of School Business Officials) Houston\, TX
DESCRIPTION:
URL:https://rcitech.com/event/tasbo-annual-convention-texas-association-of-school-business-officials-houston-tx/
END:VEVENT
BEGIN:VEVENT
DTSTART;VALUE=DATE:20240218
DTEND;VALUE=DATE:20240221
DTSTAMP:20260424T111239
CREATED:20240201T013058Z
LAST-MODIFIED:20240220T062514Z
UID:6249-1708214400-1708473599@rcitech.com
SUMMARY:TAAD  (Texas Association of Appraisal Districts)
DESCRIPTION:
URL:https://rcitech.com/event/taad-texas-association-of-appraisal-districts/
LOCATION:Houston TX
CATEGORIES:Events
END:VEVENT
BEGIN:VEVENT
DTSTART;VALUE=DATE:20240218
DTEND;VALUE=DATE:20240221
DTSTAMP:20260424T111239
CREATED:20240130T143034Z
LAST-MODIFIED:20240130T143042Z
UID:6181-1708214400-1708473599@rcitech.com
SUMMARY:TAAD  (Texas Association of Appraisal Districts) Houston\, TX
DESCRIPTION:
URL:https://rcitech.com/event/taad-texas-association-of-appraisal-districts-houston-tx/
END:VEVENT
BEGIN:VEVENT
DTSTART;VALUE=DATE:20240214
DTEND;VALUE=DATE:20240217
DTSTAMP:20260424T111239
CREATED:20240201T013058Z
LAST-MODIFIED:20240216T052515Z
UID:6247-1707868800-1708127999@rcitech.com
SUMMARY:NMASBO (New Mexico Association of School Business Officials)
DESCRIPTION:
URL:https://rcitech.com/event/nmasbo-new-mexico-association-of-school-business-officials/
LOCATION:Albuquerque\, NM
CATEGORIES:Events
END:VEVENT
BEGIN:VEVENT
DTSTART;VALUE=DATE:20240214
DTEND;VALUE=DATE:20240217
DTSTAMP:20260424T111239
CREATED:20240130T142905Z
LAST-MODIFIED:20240130T142914Z
UID:6179-1707868800-1708127999@rcitech.com
SUMMARY:NMASBO (New Mexico Association of School Business Officials) Albuquerque\, NM
DESCRIPTION:
URL:https://rcitech.com/event/nmasbo-new-mexico-association-of-school-business-officials-albuquerque-nm/
END:VEVENT
BEGIN:VEVENT
DTSTART;VALUE=DATE:20240206
DTEND;VALUE=DATE:20240208
DTSTAMP:20260424T111239
CREATED:20240201T013057Z
LAST-MODIFIED:20240207T031008Z
UID:6246-1707177600-1707350399@rcitech.com
SUMMARY:AASBO ( Arkansas  Association of School Officials)
DESCRIPTION:
URL:https://rcitech.com/event/aasbo-arkansas-association-of-school-officials/
LOCATION:Hot Springs Convention Center (134 Convention Blvd\, Hot Springs\, AR  71901)
CATEGORIES:Events
END:VEVENT
BEGIN:VEVENT
DTSTART;VALUE=DATE:20240206
DTEND;VALUE=DATE:20240208
DTSTAMP:20260424T111239
CREATED:20240130T142742Z
LAST-MODIFIED:20240130T142750Z
UID:6177-1707177600-1707350399@rcitech.com
SUMMARY:AASBO ( Arkansas Association of School Officials) Hot Springs\, AR
DESCRIPTION:
URL:https://rcitech.com/event/aasbo-arkansas-association-of-school-officials-hot-springs-ar/
END:VEVENT
BEGIN:VEVENT
DTSTART;VALUE=DATE:20240128
DTEND;VALUE=DATE:20240201
DTSTAMP:20260424T111239
CREATED:20240130T142700Z
LAST-MODIFIED:20240130T142700Z
UID:6175-1706400000-1706745599@rcitech.com
SUMMARY:TASA  Midwinter Conference  (TX Association of School Administrators ) Austin\, TX
DESCRIPTION:
URL:https://rcitech.com/event/tasa-midwinter-conference-tx-association-of-school-administrators-austin-tx/
END:VEVENT
BEGIN:VEVENT
DTSTART;VALUE=DATE:20240111
DTEND;VALUE=DATE:20240113
DTSTAMP:20260424T111239
CREATED:20240130T142608Z
LAST-MODIFIED:20240130T142608Z
UID:6173-1704931200-1705103999@rcitech.com
SUMMARY:TMCA Annual Conference (Texas Municipal Clerks Association) \, Denton TX
DESCRIPTION:
URL:https://rcitech.com/event/tmca-annual-conference-texas-municipal-clerks-association-denton-tx/
END:VEVENT
BEGIN:VEVENT
DTSTART;VALUE=DATE:20231106
DTEND;VALUE=DATE:20231110
DTSTAMP:20260424T111239
CREATED:20231105T060110Z
LAST-MODIFIED:20231109T082517Z
UID:6057-1699228800-1699574399@rcitech.com
SUMMARY:TxPPA   (Texas Public Purchasing Association)\, Denton\, TX
DESCRIPTION:
URL:https://rcitech.com/event/txppa-texas-public-purchasing-association-denton-tx/
LOCATION:Denton\, TX
CATEGORIES:Events
END:VEVENT
BEGIN:VEVENT
DTSTART;VALUE=DATE:20231023
DTEND;VALUE=DATE:20231026
DTSTAMP:20260424T111239
CREATED:20230423T230553Z
LAST-MODIFIED:20230425T234032Z
UID:5971-1698019200-1698278399@rcitech.com
SUMMARY:ACBOCCC – (Assoc. of School Bus. Officers Cal. Comm. Colleges) Santa Barbara\, CA
DESCRIPTION:
URL:https://rcitech.com/event/acboccc-assoc-of-school-bus-officers-cal-comm-colleges-santa-barbara-ca/
LOCATION:Santa Barbara\, CA
CATEGORIES:Events
END:VEVENT
BEGIN:VEVENT
DTSTART;VALUE=DATE:20231019
DTEND;VALUE=DATE:20231023
DTSTAMP:20260424T111239
CREATED:20230419T214606Z
LAST-MODIFIED:20230425T234032Z
UID:5959-1697673600-1698019199@rcitech.com
SUMMARY:ASBO (Association of School Business Officials International) National Harbor\, MD
DESCRIPTION:
URL:https://rcitech.com/event/asbo-association-of-school-business-officials-international-national-harbor-md/
LOCATION:National Harbor\, MD
CATEGORIES:Events
END:VEVENT
BEGIN:VEVENT
DTSTART;VALUE=DATE:20231017
DTEND;VALUE=DATE:20231021
DTSTAMP:20260424T111239
CREATED:20230417T211611Z
LAST-MODIFIED:20230425T234032Z
UID:5944-1697500800-1697846399@rcitech.com
SUMMARY:TAC (Texas Association of County Auditors) Fall Conference\, South Padre\, TX
DESCRIPTION:
URL:https://rcitech.com/event/tac-texas-association-of-county-auditors-fall-conference-south-padre-tx/
LOCATION:South Padre
CATEGORIES:Events
END:VEVENT
BEGIN:VEVENT
DTSTART;VALUE=DATE:20231004
DTEND;VALUE=DATE:20231007
DTSTAMP:20260424T111239
CREATED:20230404T174626Z
LAST-MODIFIED:20230425T234032Z
UID:5927-1696377600-1696636799@rcitech.com
SUMMARY:TML (Texas Municipal League) Dallas\, TX
DESCRIPTION:
URL:https://rcitech.com/event/tml-texas-municipal-league-dallas-tx/
LOCATION:Dallas TX
CATEGORIES:Events
END:VEVENT
BEGIN:VEVENT
DTSTART;VALUE=DATE:20230925
DTEND;VALUE=DATE:20230928
DTSTAMP:20260424T111239
CREATED:20230325T150047Z
LAST-MODIFIED:20230425T234032Z
UID:5907-1695600000-1695859199@rcitech.com
SUMMARY:CCBO (Community College Business Officers) 	San Diego\, CA
DESCRIPTION:
URL:https://rcitech.com/event/ccbo-community-college-business-officers-san-diego-ca/
LOCATION:San Diego\, CA
CATEGORIES:Events
END:VEVENT
END:VCALENDAR