BEGIN:VCALENDAR
VERSION:2.0
PRODID:-//RCI Tech - ECPv6.15.20//NONSGML v1.0//EN
CALSCALE:GREGORIAN
METHOD:PUBLISH
X-WR-CALNAME:RCI Tech
X-ORIGINAL-URL:https://rcitech.com
X-WR-CALDESC:Events for RCI Tech
REFRESH-INTERVAL;VALUE=DURATION:PT1H
X-Robots-Tag:noindex
X-PUBLISHED-TTL:PT1H
BEGIN:VTIMEZONE
TZID:America/Chicago
BEGIN:DAYLIGHT
TZOFFSETFROM:-0600
TZOFFSETTO:-0500
TZNAME:CDT
DTSTART:20200308T080000
END:DAYLIGHT
BEGIN:STANDARD
TZOFFSETFROM:-0500
TZOFFSETTO:-0600
TZNAME:CST
DTSTART:20201101T070000
END:STANDARD
BEGIN:DAYLIGHT
TZOFFSETFROM:-0600
TZOFFSETTO:-0500
TZNAME:CDT
DTSTART:20210314T080000
END:DAYLIGHT
BEGIN:STANDARD
TZOFFSETFROM:-0500
TZOFFSETTO:-0600
TZNAME:CST
DTSTART:20211107T070000
END:STANDARD
BEGIN:DAYLIGHT
TZOFFSETFROM:-0600
TZOFFSETTO:-0500
TZNAME:CDT
DTSTART:20220313T080000
END:DAYLIGHT
BEGIN:STANDARD
TZOFFSETFROM:-0500
TZOFFSETTO:-0600
TZNAME:CST
DTSTART:20221106T070000
END:STANDARD
END:VTIMEZONE
BEGIN:VEVENT
DTSTART;VALUE=DATE:20211004
DTEND;VALUE=DATE:20211006
DTSTAMP:20260425T052310
CREATED:20211006T203613Z
LAST-MODIFIED:20211006T203613Z
UID:1710-1633305600-1633478399@rcitech.com
SUMMARY:Grape Creek ISD
DESCRIPTION:
URL:https://rcitech.com/event/grape-creek-isd/
CATEGORIES:Projects
END:VEVENT
BEGIN:VEVENT
DTSTART;VALUE=DATE:20210929
DTEND;VALUE=DATE:20211001
DTSTAMP:20260425T052310
CREATED:20211006T203737Z
LAST-MODIFIED:20211006T203737Z
UID:1714-1632873600-1633046399@rcitech.com
SUMMARY:Ben Bolt-Palito Blanco ISD
DESCRIPTION:
URL:https://rcitech.com/event/ben-bolt-palito-blanco-isd/
CATEGORIES:Projects
END:VEVENT
BEGIN:VEVENT
DTSTART;VALUE=DATE:20210921
DTEND;VALUE=DATE:20210928
DTSTAMP:20260425T052310
CREATED:20211006T203329Z
LAST-MODIFIED:20211006T203329Z
UID:1708-1632182400-1632787199@rcitech.com
SUMMARY:American River College
DESCRIPTION:
URL:https://rcitech.com/event/american-river-college/
CATEGORIES:Projects
END:VEVENT
END:VCALENDAR