BEGIN:VCALENDAR
VERSION:2.0
PRODID:-//RCI Tech - ECPv6.15.20//NONSGML v1.0//EN
CALSCALE:GREGORIAN
METHOD:PUBLISH
X-WR-CALNAME:RCI Tech
X-ORIGINAL-URL:https://rcitech.com
X-WR-CALDESC:Events for RCI Tech
REFRESH-INTERVAL;VALUE=DURATION:PT1H
X-Robots-Tag:noindex
X-PUBLISHED-TTL:PT1H
BEGIN:VTIMEZONE
TZID:America/Chicago
BEGIN:DAYLIGHT
TZOFFSETFROM:-0600
TZOFFSETTO:-0500
TZNAME:CDT
DTSTART:20200308T080000
END:DAYLIGHT
BEGIN:STANDARD
TZOFFSETFROM:-0500
TZOFFSETTO:-0600
TZNAME:CST
DTSTART:20201101T070000
END:STANDARD
BEGIN:DAYLIGHT
TZOFFSETFROM:-0600
TZOFFSETTO:-0500
TZNAME:CDT
DTSTART:20210314T080000
END:DAYLIGHT
BEGIN:STANDARD
TZOFFSETFROM:-0500
TZOFFSETTO:-0600
TZNAME:CST
DTSTART:20211107T070000
END:STANDARD
BEGIN:DAYLIGHT
TZOFFSETFROM:-0600
TZOFFSETTO:-0500
TZNAME:CDT
DTSTART:20220313T080000
END:DAYLIGHT
BEGIN:STANDARD
TZOFFSETFROM:-0500
TZOFFSETTO:-0600
TZNAME:CST
DTSTART:20221106T070000
END:STANDARD
END:VTIMEZONE
BEGIN:VEVENT
DTSTART;VALUE=DATE:20211031
DTEND;VALUE=DATE:20211104
DTSTAMP:20260425T061645
CREATED:20211006T203125Z
LAST-MODIFIED:20211006T203125Z
UID:1706-1635638400-1635983999@rcitech.com
SUMMARY:EACUBO
DESCRIPTION:
URL:https://rcitech.com/event/eacubo/
CATEGORIES:Shows
END:VEVENT
BEGIN:VEVENT
DTSTART;VALUE=DATE:20211027
DTEND;VALUE=DATE:20211030
DTSTAMP:20260425T061645
CREATED:20211006T203042Z
LAST-MODIFIED:20211006T203046Z
UID:1704-1635292800-1635551999@rcitech.com
SUMMARY:Texas Charter Schools Annual Conference
DESCRIPTION:
URL:https://rcitech.com/event/texas-charter-schools-annual-conference/
CATEGORIES:Shows
END:VEVENT
BEGIN:VEVENT
DTSTART;VALUE=DATE:20211025
DTEND;VALUE=DATE:20211028
DTSTAMP:20260425T061645
CREATED:20211006T203009Z
LAST-MODIFIED:20211006T203149Z
UID:1702-1635120000-1635379199@rcitech.com
SUMMARY:ACBOCCC Fall Conference - Assoc. of School Business Officers Cal Community Colleges
DESCRIPTION:
URL:https://rcitech.com/event/acboccc-fall-conference-assoc-of-school-business-officers-cal-community-colleges/
CATEGORIES:Shows
END:VEVENT
BEGIN:VEVENT
DTSTART;VALUE=DATE:20211024
DTEND;VALUE=DATE:20211027
DTSTAMP:20260425T061645
CREATED:20211006T202937Z
LAST-MODIFIED:20211006T203153Z
UID:1700-1635033600-1635292799@rcitech.com
SUMMARY:CCBO- Community College Business Officers
DESCRIPTION:
URL:https://rcitech.com/event/ccbo-community-college-business-officers/
CATEGORIES:Shows
END:VEVENT
BEGIN:VEVENT
DTSTART;TZID=America/Chicago:20211023T090000
DTEND;TZID=America/Chicago:20211023T120000
DTSTAMP:20260425T061645
CREATED:20211007T181934Z
LAST-MODIFIED:20211007T181934Z
UID:1746-1634979600-1634990400@rcitech.com
SUMMARY:Cordilerra Ranch - Shred Event
DESCRIPTION:Private event from 9:00 am to 12 pm for Cordilerra Ranch
URL:https://rcitech.com/event/cordilerra-ranch-shred-event/
CATEGORIES:Events
END:VEVENT
BEGIN:VEVENT
DTSTART;TZID=America/Chicago:20211016T090000
DTEND;TZID=America/Chicago:20211016T120000
DTSTAMP:20260425T061645
CREATED:20211007T181859Z
LAST-MODIFIED:20211007T181859Z
UID:1744-1634374800-1634385600@rcitech.com
SUMMARY:Bulverde Spring Branch COC - Shred Event
DESCRIPTION:Private event from 9:00 am to 10 pm for Chamber of Commerce Only \n10:00 am to 12 pm Open to the Public –\nThere is a charge per box. See Bulverde Spring Branch Chamber of Commerce for more Details
URL:https://rcitech.com/event/bulverde-spring-branch-coc-shred-event/
CATEGORIES:Events
END:VEVENT
BEGIN:VEVENT
DTSTART;VALUE=DATE:20211012
DTEND;VALUE=DATE:20211016
DTSTAMP:20260425T061645
CREATED:20211006T202911Z
LAST-MODIFIED:20211006T203158Z
UID:1698-1633996800-1634342399@rcitech.com
SUMMARY:76th Annual Texas Association of County Auditors Fall Conference (TACA)
DESCRIPTION:
URL:https://rcitech.com/event/76th-annual-texas-association-of-county-auditors-fall-conference-taca/
CATEGORIES:Shows
END:VEVENT
BEGIN:VEVENT
DTSTART;VALUE=DATE:20211011
DTEND;VALUE=DATE:20211015
DTSTAMP:20260425T061645
CREATED:20211006T202825Z
LAST-MODIFIED:20211006T202825Z
UID:1696-1633910400-1634255999@rcitech.com
SUMMARY:CJCAT Annual  Conference
DESCRIPTION:
URL:https://rcitech.com/event/cjcat-annual-conference/
CATEGORIES:Shows
END:VEVENT
BEGIN:VEVENT
DTSTART;TZID=America/Chicago:20211009T090000
DTEND;TZID=America/Chicago:20211009T130000
DTSTAMP:20260425T061645
CREATED:20211007T181756Z
LAST-MODIFIED:20211007T181818Z
UID:1741-1633770000-1633784400@rcitech.com
SUMMARY:City of Castle Hills - Shred Event
DESCRIPTION:Private event from 10:00 am to 12 pm for Residence of City of Castle Hills
URL:https://rcitech.com/event/city-of-castle-hills-shred-event/
CATEGORIES:Events
END:VEVENT
BEGIN:VEVENT
DTSTART;VALUE=DATE:20211004
DTEND;VALUE=DATE:20211007
DTSTAMP:20260425T061645
CREATED:20211006T203645Z
LAST-MODIFIED:20211006T203645Z
UID:1712-1633305600-1633564799@rcitech.com
SUMMARY:Hudson ISD
DESCRIPTION:
URL:https://rcitech.com/event/hudson-isd/
CATEGORIES:Projects
END:VEVENT
BEGIN:VEVENT
DTSTART;VALUE=DATE:20211004
DTEND;VALUE=DATE:20211006
DTSTAMP:20260425T061645
CREATED:20211006T203613Z
LAST-MODIFIED:20211006T203613Z
UID:1710-1633305600-1633478399@rcitech.com
SUMMARY:Grape Creek ISD
DESCRIPTION:
URL:https://rcitech.com/event/grape-creek-isd/
CATEGORIES:Projects
END:VEVENT
BEGIN:VEVENT
DTSTART;VALUE=DATE:20210929
DTEND;VALUE=DATE:20211001
DTSTAMP:20260425T061645
CREATED:20211006T203737Z
LAST-MODIFIED:20211006T203737Z
UID:1714-1632873600-1633046399@rcitech.com
SUMMARY:Ben Bolt-Palito Blanco ISD
DESCRIPTION:
URL:https://rcitech.com/event/ben-bolt-palito-blanco-isd/
CATEGORIES:Projects
END:VEVENT
BEGIN:VEVENT
DTSTART;VALUE=DATE:20210921
DTEND;VALUE=DATE:20210928
DTSTAMP:20260425T061645
CREATED:20211006T203329Z
LAST-MODIFIED:20211006T203329Z
UID:1708-1632182400-1632787199@rcitech.com
SUMMARY:American River College
DESCRIPTION:
URL:https://rcitech.com/event/american-river-college/
CATEGORIES:Projects
END:VEVENT
END:VCALENDAR