BEGIN:VCALENDAR
VERSION:2.0
PRODID:-//RCI Tech - ECPv6.15.20//NONSGML v1.0//EN
CALSCALE:GREGORIAN
METHOD:PUBLISH
X-ORIGINAL-URL:https://rcitech.com
X-WR-CALDESC:Events for RCI Tech
REFRESH-INTERVAL;VALUE=DURATION:PT1H
X-Robots-Tag:noindex
X-PUBLISHED-TTL:PT1H
BEGIN:VTIMEZONE
TZID:America/Chicago
BEGIN:DAYLIGHT
TZOFFSETFROM:-0600
TZOFFSETTO:-0500
TZNAME:CDT
DTSTART:20250309T080000
END:DAYLIGHT
BEGIN:STANDARD
TZOFFSETFROM:-0500
TZOFFSETTO:-0600
TZNAME:CST
DTSTART:20251102T070000
END:STANDARD
BEGIN:DAYLIGHT
TZOFFSETFROM:-0600
TZOFFSETTO:-0500
TZNAME:CDT
DTSTART:20260308T080000
END:DAYLIGHT
BEGIN:STANDARD
TZOFFSETFROM:-0500
TZOFFSETTO:-0600
TZNAME:CST
DTSTART:20261101T070000
END:STANDARD
BEGIN:DAYLIGHT
TZOFFSETFROM:-0600
TZOFFSETTO:-0500
TZNAME:CDT
DTSTART:20270314T080000
END:DAYLIGHT
BEGIN:STANDARD
TZOFFSETFROM:-0500
TZOFFSETTO:-0600
TZNAME:CST
DTSTART:20271107T070000
END:STANDARD
END:VTIMEZONE
BEGIN:VEVENT
DTSTART;VALUE=DATE:20260219
DTEND;VALUE=DATE:20260222
DTSTAMP:20260423T181228
CREATED:20260105T213555Z
LAST-MODIFIED:20260221T100045Z
UID:7143-1771459200-1771718399@rcitech.com
SUMMARY:NMASBO New Mexico Association of School Business Officials
DESCRIPTION:More info to come
URL:https://rcitech.com/event/nmasbo-new-mexico-association-of-school-business-officials-3/
LOCATION:Albuquerque (Albuquerque\, New Mexico)
CATEGORIES:Events
END:VEVENT
BEGIN:VEVENT
DTSTART;VALUE=DATE:20260304
DTEND;VALUE=DATE:20260307
DTSTAMP:20260423T181228
CREATED:20260106T215109Z
LAST-MODIFIED:20260306T133018Z
UID:7147-1772582400-1772841599@rcitech.com
SUMMARY:SCASBO SPRING\, 2026 CONFERENCE AND EXHIBITS
DESCRIPTION:TUESDAY\, MARCH 3\, 2025\n4:00 PM – 6:00 PM                      EXHIBITORS MAY SET UP DISPLAYS\nWEDNESDAY\, MARCH 4\, 2026\n6:30 AM – 9:00 AM                      EXHIBITOR SET UP DISPLAYS\n8:15 AM                                             EXHIBITOR PRE CON MEETING – EXHIBIT HALL\n8: 30 AM – 9:00 AM     WELCOME – CONTINENTAL BREAKFAST WITH MEMBERSHIP\n11:00 AM – 12:30 AM VENDOR SHOWCASE\n12:30 PM – 2:00 PM                   LUNCH AND KEYNOTE SPEAKER\n                                                                Hayward Jean – “Lose the J.O.B.\, Win Your Purpose!”\n2:00 PM – 2:50 PM                      VENDOR SHOWCASE\n3:55 PM – 4:15 PM                      DOOR PRIZE DRAWINGS\n5:45 PM – 6:45 PM                      VENDOR APPRECIATION HOSPITALITY\nTHURSDAY\, MARCH 5\, 2026\n10:00 AM – 11:30 AM FINAL VENDOR SHOWCASE\n11:35 AM – 11:50 AM                 DOOR PRIZES\n6:00 PM- 7:00 PM                        HOSPITALITY\n7:30 PM – 11:30 PM                   THURSDAY EVENING EVENT WITH DJ PHIL URBAN\nNOTED: ADDITIONAL CHARGE FOR THIS EVENT FOR NON-SPONSOR EXHIBITOR IF ATTENDING
URL:https://rcitech.com/event/scasbo-spring-2026-conference-and-exhibits/
LOCATION:Hilton Myrtle Beach Resort (10000 Beach Club Dr\, Myrtle Beach\, SC  29572)
CATEGORIES:Events
END:VEVENT
END:VCALENDAR