BEGIN:VCALENDAR
VERSION:2.0
PRODID:-//RCI Tech - ECPv6.15.20//NONSGML v1.0//EN
CALSCALE:GREGORIAN
METHOD:PUBLISH
X-ORIGINAL-URL:https://rcitech.com
X-WR-CALDESC:Events for RCI Tech
REFRESH-INTERVAL;VALUE=DURATION:PT1H
X-Robots-Tag:noindex
X-PUBLISHED-TTL:PT1H
BEGIN:VTIMEZONE
TZID:America/Chicago
BEGIN:DAYLIGHT
TZOFFSETFROM:-0600
TZOFFSETTO:-0500
TZNAME:CDT
DTSTART:20230312T080000
END:DAYLIGHT
BEGIN:STANDARD
TZOFFSETFROM:-0500
TZOFFSETTO:-0600
TZNAME:CST
DTSTART:20231105T070000
END:STANDARD
BEGIN:DAYLIGHT
TZOFFSETFROM:-0600
TZOFFSETTO:-0500
TZNAME:CDT
DTSTART:20240310T080000
END:DAYLIGHT
BEGIN:STANDARD
TZOFFSETFROM:-0500
TZOFFSETTO:-0600
TZNAME:CST
DTSTART:20241103T070000
END:STANDARD
BEGIN:DAYLIGHT
TZOFFSETFROM:-0600
TZOFFSETTO:-0500
TZNAME:CDT
DTSTART:20250309T080000
END:DAYLIGHT
BEGIN:STANDARD
TZOFFSETFROM:-0500
TZOFFSETTO:-0600
TZNAME:CST
DTSTART:20251102T070000
END:STANDARD
END:VTIMEZONE
BEGIN:VEVENT
DTSTART;VALUE=DATE:20240319
DTEND;VALUE=DATE:20240321
DTSTAMP:20260425T110932
CREATED:20240130T143512Z
LAST-MODIFIED:20240130T143512Z
UID:6189-1710806400-1710979199@rcitech.com
SUMMARY:CCSA (California Charter School Association) Long Beach\, CA
DESCRIPTION:
URL:https://rcitech.com/event/ccsa-california-charter-school-association-long-beach-ca/
END:VEVENT
BEGIN:VEVENT
DTSTART;VALUE=DATE:20240319
DTEND;VALUE=DATE:20240321
DTSTAMP:20260425T110932
CREATED:20240201T013058Z
LAST-MODIFIED:20240320T141019Z
UID:6257-1710806400-1710979199@rcitech.com
SUMMARY:CCSA (California Charter School Association)
DESCRIPTION:
URL:https://rcitech.com/event/ccsa-california-charter-school-association/
LOCATION:Longbeach\, CA
CATEGORIES:Events
END:VEVENT
BEGIN:VEVENT
DTSTART;VALUE=DATE:20240407
DTEND;VALUE=DATE:20240411
DTSTAMP:20260425T110932
CREATED:20240130T143619Z
LAST-MODIFIED:20240130T143619Z
UID:6191-1712448000-1712793599@rcitech.com
SUMMARY:CASBO (California Association of School Business Officials) Palm Springs\,  CA
DESCRIPTION:
URL:https://rcitech.com/event/casbo-california-association-of-school-business-officials-palm-springs-ca/
END:VEVENT
BEGIN:VEVENT
DTSTART;VALUE=DATE:20240407
DTEND;VALUE=DATE:20240411
DTSTAMP:20260425T110932
CREATED:20240201T013058Z
LAST-MODIFIED:20240410T194043Z
UID:6259-1712448000-1712793599@rcitech.com
SUMMARY:CASBO  (California Association of School Business Officials)
DESCRIPTION:
URL:https://rcitech.com/event/casbo-california-association-of-school-business-officials/
LOCATION:Palm Springs\,  CA
CATEGORIES:Events
END:VEVENT
BEGIN:VEVENT
DTSTART;VALUE=DATE:20240416
DTEND;VALUE=DATE:20240419
DTSTAMP:20260425T110932
CREATED:20240130T144827Z
LAST-MODIFIED:20240130T144827Z
UID:6195-1713225600-1713484799@rcitech.com
SUMMARY:SASBO (Southeastern Association of School Business Officers) \, Greenville\, SC
DESCRIPTION:
URL:https://rcitech.com/event/sasbo-southeastern-association-of-school-business-officers-greenville-sc/
END:VEVENT
BEGIN:VEVENT
DTSTART;VALUE=DATE:20240416
DTEND;VALUE=DATE:20240419
DTSTAMP:20260425T110932
CREATED:20240201T013058Z
LAST-MODIFIED:20240418T215513Z
UID:6263-1713225600-1713484799@rcitech.com
SUMMARY:SASBO  (Southeastern Association of School Business Officers)
DESCRIPTION:
URL:https://rcitech.com/event/sasbo-southeastern-association-of-school-business-officers/
LOCATION:Greenville\, SC
CATEGORIES:Events
END:VEVENT
BEGIN:VEVENT
DTSTART;VALUE=DATE:20240416
DTEND;VALUE=DATE:20240420
DTSTAMP:20260425T110932
CREATED:20240130T143716Z
LAST-MODIFIED:20240130T144714Z
UID:6193-1713225600-1713571199@rcitech.com
SUMMARY:TACA (Texas Association County Auditors - May Institute)  College Station\, TX
DESCRIPTION:
URL:https://rcitech.com/event/taca-texas-association-county-auditors-may-institute-college-station-tx/
END:VEVENT
BEGIN:VEVENT
DTSTART;VALUE=DATE:20240416
DTEND;VALUE=DATE:20240420
DTSTAMP:20260425T110932
CREATED:20240201T013058Z
LAST-MODIFIED:20240419T221033Z
UID:6261-1713225600-1713571199@rcitech.com
SUMMARY:TACA  May Institute (Texas Association County Auditors- May Institute)
DESCRIPTION:
URL:https://rcitech.com/event/taca-may-institute-texas-association-county-auditors-may-institute/
LOCATION:College Station\, TX
CATEGORIES:Events
END:VEVENT
BEGIN:VEVENT
DTSTART;VALUE=DATE:20240422
DTEND;VALUE=DATE:20240424
DTSTAMP:20260425T110932
CREATED:20240130T145003Z
LAST-MODIFIED:20240130T145003Z
UID:6197-1713744000-1713916799@rcitech.com
SUMMARY:UASBO  (Utah Association of School Business Officers)  Provo\, UT
DESCRIPTION:
URL:https://rcitech.com/event/uasbo-utah-association-of-school-business-officers-provo-ut/
END:VEVENT
BEGIN:VEVENT
DTSTART;VALUE=DATE:20240422
DTEND;VALUE=DATE:20240424
DTSTAMP:20260425T110932
CREATED:20240201T013110Z
LAST-MODIFIED:20240423T231511Z
UID:6265-1713744000-1713916799@rcitech.com
SUMMARY:UASBO  (Utah Association of School Business Officers)
DESCRIPTION:
URL:https://rcitech.com/event/uasbo-utah-association-of-school-business-officers/
LOCATION:Provo\, UT
CATEGORIES:Events
END:VEVENT
BEGIN:VEVENT
DTSTART;VALUE=DATE:20240424
DTEND;VALUE=DATE:20240426
DTSTAMP:20260425T110932
CREATED:20240130T145056Z
LAST-MODIFIED:20240130T145106Z
UID:6199-1713916800-1714089599@rcitech.com
SUMMARY:OASBO (Oklahoma Association of School Business Officers)\, Norman OK
DESCRIPTION:
URL:https://rcitech.com/event/oasbo-oklahoma-association-of-school-business-officers-norman-ok/
END:VEVENT
BEGIN:VEVENT
DTSTART;VALUE=DATE:20240424
DTEND;VALUE=DATE:20240426
DTSTAMP:20260425T110932
CREATED:20240201T013110Z
LAST-MODIFIED:20240425T234023Z
UID:6267-1713916800-1714089599@rcitech.com
SUMMARY:OASBO  (Oklahoma Association of School Business Officers)
DESCRIPTION:
URL:https://rcitech.com/event/oasbo-oklahoma-association-of-school-business-officers/
LOCATION:Norman OK
CATEGORIES:Events
END:VEVENT
BEGIN:VEVENT
DTSTART;VALUE=DATE:20240429
DTEND;VALUE=DATE:20240430
DTSTAMP:20260425T110932
CREATED:20240130T145204Z
LAST-MODIFIED:20240130T145204Z
UID:6202-1714348800-1714435199@rcitech.com
SUMMARY:TxPPA  (Texas Public Purchasing Association) Conroe\, TX
DESCRIPTION:
URL:https://rcitech.com/event/txppa-texas-public-purchasing-association-conroe-tx/
END:VEVENT
BEGIN:VEVENT
DTSTART;VALUE=DATE:20240429
DTEND;VALUE=DATE:20240430
DTSTAMP:20260425T110932
CREATED:20240201T013110Z
LAST-MODIFIED:20240429T002512Z
UID:6269-1714348800-1714435199@rcitech.com
SUMMARY:TxPPA  (Texas Public Purchasing Association)
DESCRIPTION:
URL:https://rcitech.com/event/txppa-texas-public-purchasing-association/
LOCATION:Conroe\, TX
CATEGORIES:Events
END:VEVENT
BEGIN:VEVENT
DTSTART;VALUE=DATE:20240501
DTEND;VALUE=DATE:20240504
DTSTAMP:20260425T110932
CREATED:20240130T145248Z
LAST-MODIFIED:20240130T145248Z
UID:6204-1714521600-1714780799@rcitech.com
SUMMARY:CASBO (Colorado Association of School Business Officials) Pueblo\, CO
DESCRIPTION:
URL:https://rcitech.com/event/casbo-colorado-association-of-school-business-officials-pueblo-co/
END:VEVENT
BEGIN:VEVENT
DTSTART;VALUE=DATE:20240501
DTEND;VALUE=DATE:20240504
DTSTAMP:20260425T110932
CREATED:20240201T013110Z
LAST-MODIFIED:20240503T012516Z
UID:6271-1714521600-1714780799@rcitech.com
SUMMARY:CASBO  (Colorado Association of School Business Officials)
DESCRIPTION:
URL:https://rcitech.com/event/casbo-colorado-association-of-school-business-officials/
LOCATION:Pueblo\, CO
CATEGORIES:Events
END:VEVENT
BEGIN:VEVENT
DTSTART;VALUE=DATE:20240520
DTEND;VALUE=DATE:20240523
DTSTAMP:20260425T110932
CREATED:20240130T145340Z
LAST-MODIFIED:20240130T145340Z
UID:6206-1716163200-1716422399@rcitech.com
SUMMARY:ACBO (Association of Chief Business Officials) Monterey\, CA
DESCRIPTION:
URL:https://rcitech.com/event/acbo-association-of-chief-business-officials-monterey-ca/
END:VEVENT
BEGIN:VEVENT
DTSTART;VALUE=DATE:20240520
DTEND;VALUE=DATE:20240523
DTSTAMP:20260425T110932
CREATED:20240201T013110Z
LAST-MODIFIED:20240522T064521Z
UID:6273-1716163200-1716422399@rcitech.com
SUMMARY:ACBO  (Association of Chief Business Officials)
DESCRIPTION:
URL:https://rcitech.com/event/acbo-association-of-chief-business-officials/
LOCATION:Monterey\, CA
CATEGORIES:Events
END:VEVENT
BEGIN:VEVENT
DTSTART;VALUE=DATE:20240603
DTEND;VALUE=DATE:20240606
DTSTAMP:20260425T110932
CREATED:20240130T145437Z
LAST-MODIFIED:20240130T145437Z
UID:6208-1717372800-1717631999@rcitech.com
SUMMARY:TACA (Tax Assessor Collectors Association) Dallas\, TX
DESCRIPTION:
URL:https://rcitech.com/event/taca-tax-assessor-collectors-association-dallas-tx-2/
END:VEVENT
BEGIN:VEVENT
DTSTART;VALUE=DATE:20240603
DTEND;VALUE=DATE:20240606
DTSTAMP:20260425T110932
CREATED:20240201T013110Z
LAST-MODIFIED:20240605T102518Z
UID:6274-1717372800-1717631999@rcitech.com
SUMMARY:TACA  (Tax Assessor Collectors Association)
DESCRIPTION:
URL:https://rcitech.com/event/taca-tax-assessor-collectors-association/
LOCATION:Dallas\, TX
CATEGORIES:Events
END:VEVENT
BEGIN:VEVENT
DTSTART;VALUE=DATE:20240609
DTEND;VALUE=DATE:20240613
DTSTAMP:20260425T110932
CREATED:20240130T145517Z
LAST-MODIFIED:20240130T145517Z
UID:6210-1717891200-1718236799@rcitech.com
SUMMARY:GFOA (Government Finance Officers Association) Orlando\, FL
DESCRIPTION:
URL:https://rcitech.com/event/gfoa-government-finance-officers-association-orlando-fl/
END:VEVENT
BEGIN:VEVENT
DTSTART;VALUE=DATE:20240609
DTEND;VALUE=DATE:20240613
DTSTAMP:20260425T110932
CREATED:20240201T013111Z
LAST-MODIFIED:20240611T123023Z
UID:6276-1717891200-1718236799@rcitech.com
SUMMARY:GFOA  (Government Finance Officers Association)
DESCRIPTION:
URL:https://rcitech.com/event/gfoa-government-finance-officers-association/
LOCATION:Orlando\, FL
CATEGORIES:Events
END:VEVENT
BEGIN:VEVENT
DTSTART;VALUE=DATE:20240617
DTEND;VALUE=DATE:20240620
DTSTAMP:20260425T110932
CREATED:20240130T145620Z
LAST-MODIFIED:20240130T145620Z
UID:6212-1718582400-1718841599@rcitech.com
SUMMARY:TASBO Summer Conference (Texas Association of School Business Officials) Round Rock\, TX
DESCRIPTION:
URL:https://rcitech.com/event/tasbo-summer-conference-texas-association-of-school-business-officials-round-rock-tx/
END:VEVENT
BEGIN:VEVENT
DTSTART;VALUE=DATE:20240617
DTEND;VALUE=DATE:20240620
DTSTAMP:20260425T110932
CREATED:20240201T013111Z
LAST-MODIFIED:20240619T181036Z
UID:6278-1718582400-1718841599@rcitech.com
SUMMARY:TASBO  Summer Conference (Texas Asso. of School Business Officials)
DESCRIPTION:
URL:https://rcitech.com/event/tasbo-summer-conference-texas-asso-of-school-business-officials/
LOCATION:Round Rock\, TX
CATEGORIES:Events
END:VEVENT
BEGIN:VEVENT
DTSTART;VALUE=DATE:20240618
DTEND;VALUE=DATE:20240622
DTSTAMP:20260425T110932
CREATED:20240130T145707Z
LAST-MODIFIED:20240130T145707Z
UID:6214-1718668800-1719014399@rcitech.com
SUMMARY:TACCBO (Texas Association of Com. College Business Officers) College Station\, TX
DESCRIPTION:
URL:https://rcitech.com/event/taccbo-texas-association-of-com-college-business-officers-college-station-tx/
END:VEVENT
BEGIN:VEVENT
DTSTART;VALUE=DATE:20240618
DTEND;VALUE=DATE:20240622
DTSTAMP:20260425T110932
CREATED:20240201T013111Z
LAST-MODIFIED:20240621T184020Z
UID:6280-1718668800-1719014399@rcitech.com
SUMMARY:TACCBO  (Texas Association of Com. College Business Officers)
DESCRIPTION:
URL:https://rcitech.com/event/taccbo-texas-association-of-com-college-business-officers/
LOCATION:College Station\, TX
CATEGORIES:Events
END:VEVENT
BEGIN:VEVENT
DTSTART;VALUE=DATE:20240712
DTEND;VALUE=DATE:20240715
DTSTAMP:20260425T110932
CREATED:20240130T145812Z
LAST-MODIFIED:20240130T145812Z
UID:6216-1720742400-1721001599@rcitech.com
SUMMARY:2024 NACO Conference  (National Association of Counties) Tampa\, FL
DESCRIPTION:
URL:https://rcitech.com/event/2024-naco-conference-national-association-of-counties-tampa-fl/
END:VEVENT
BEGIN:VEVENT
DTSTART;VALUE=DATE:20240712
DTEND;VALUE=DATE:20240715
DTSTAMP:20260425T110932
CREATED:20240201T013111Z
LAST-MODIFIED:20240714T002538Z
UID:6282-1720742400-1721001599@rcitech.com
SUMMARY:NACo  (National Association of Counties)
DESCRIPTION:
URL:https://rcitech.com/event/naco-national-association-of-counties/
LOCATION:Tampa\, FL
CATEGORIES:Events
END:VEVENT
BEGIN:VEVENT
DTSTART;VALUE=DATE:20240717
DTEND;VALUE=DATE:20240720
DTSTAMP:20260425T110932
CREATED:20240130T150149Z
LAST-MODIFIED:20240130T150149Z
UID:6218-1721174400-1721433599@rcitech.com
SUMMARY:TASPA Conference (Texas Association of School Personnel Administrators) Forth Worth\, TX
DESCRIPTION:
URL:https://rcitech.com/event/taspa-conference-texas-association-of-school-personnel-administrators-forth-worth-tx/
END:VEVENT
BEGIN:VEVENT
DTSTART;VALUE=DATE:20240717
DTEND;VALUE=DATE:20240720
DTSTAMP:20260425T110932
CREATED:20240201T013122Z
LAST-MODIFIED:20240719T014034Z
UID:6284-1721174400-1721433599@rcitech.com
SUMMARY:TASPA (Texas Assoc. of School Personnel Administrators)
DESCRIPTION:
URL:https://rcitech.com/event/taspa-texas-assoc-of-school-personnel-administrators-2/
LOCATION:Forth Worth\, TX
CATEGORIES:Events
END:VEVENT
END:VCALENDAR