BEGIN:VCALENDAR
VERSION:2.0
PRODID:-//RCI Tech - ECPv6.15.20//NONSGML v1.0//EN
CALSCALE:GREGORIAN
METHOD:PUBLISH
X-WR-CALNAME:RCI Tech
X-ORIGINAL-URL:https://rcitech.com
X-WR-CALDESC:Events for RCI Tech
REFRESH-INTERVAL;VALUE=DURATION:PT1H
X-Robots-Tag:noindex
X-PUBLISHED-TTL:PT1H
BEGIN:VTIMEZONE
TZID:America/Chicago
BEGIN:DAYLIGHT
TZOFFSETFROM:-0600
TZOFFSETTO:-0500
TZNAME:CDT
DTSTART:20230312T080000
END:DAYLIGHT
BEGIN:STANDARD
TZOFFSETFROM:-0500
TZOFFSETTO:-0600
TZNAME:CST
DTSTART:20231105T070000
END:STANDARD
BEGIN:DAYLIGHT
TZOFFSETFROM:-0600
TZOFFSETTO:-0500
TZNAME:CDT
DTSTART:20240310T080000
END:DAYLIGHT
BEGIN:STANDARD
TZOFFSETFROM:-0500
TZOFFSETTO:-0600
TZNAME:CST
DTSTART:20241103T070000
END:STANDARD
BEGIN:DAYLIGHT
TZOFFSETFROM:-0600
TZOFFSETTO:-0500
TZNAME:CDT
DTSTART:20250309T080000
END:DAYLIGHT
BEGIN:STANDARD
TZOFFSETFROM:-0500
TZOFFSETTO:-0600
TZNAME:CST
DTSTART:20251102T070000
END:STANDARD
BEGIN:DAYLIGHT
TZOFFSETFROM:-0600
TZOFFSETTO:-0500
TZNAME:CDT
DTSTART:20260308T080000
END:DAYLIGHT
BEGIN:STANDARD
TZOFFSETFROM:-0500
TZOFFSETTO:-0600
TZNAME:CST
DTSTART:20261101T070000
END:STANDARD
BEGIN:DAYLIGHT
TZOFFSETFROM:-0600
TZOFFSETTO:-0500
TZNAME:CDT
DTSTART:20270314T080000
END:DAYLIGHT
BEGIN:STANDARD
TZOFFSETFROM:-0500
TZOFFSETTO:-0600
TZNAME:CST
DTSTART:20271107T070000
END:STANDARD
END:VTIMEZONE
BEGIN:VEVENT
DTSTART;VALUE=DATE:20260304
DTEND;VALUE=DATE:20260307
DTSTAMP:20260423T132801
CREATED:20260106T215109Z
LAST-MODIFIED:20260306T133018Z
UID:7147-1772582400-1772841599@rcitech.com
SUMMARY:SCASBO SPRING\, 2026 CONFERENCE AND EXHIBITS
DESCRIPTION:TUESDAY\, MARCH 3\, 2025\n4:00 PM – 6:00 PM                      EXHIBITORS MAY SET UP DISPLAYS\nWEDNESDAY\, MARCH 4\, 2026\n6:30 AM – 9:00 AM                      EXHIBITOR SET UP DISPLAYS\n8:15 AM                                             EXHIBITOR PRE CON MEETING – EXHIBIT HALL\n8: 30 AM – 9:00 AM     WELCOME – CONTINENTAL BREAKFAST WITH MEMBERSHIP\n11:00 AM – 12:30 AM VENDOR SHOWCASE\n12:30 PM – 2:00 PM                   LUNCH AND KEYNOTE SPEAKER\n                                                                Hayward Jean – “Lose the J.O.B.\, Win Your Purpose!”\n2:00 PM – 2:50 PM                      VENDOR SHOWCASE\n3:55 PM – 4:15 PM                      DOOR PRIZE DRAWINGS\n5:45 PM – 6:45 PM                      VENDOR APPRECIATION HOSPITALITY\nTHURSDAY\, MARCH 5\, 2026\n10:00 AM – 11:30 AM FINAL VENDOR SHOWCASE\n11:35 AM – 11:50 AM                 DOOR PRIZES\n6:00 PM- 7:00 PM                        HOSPITALITY\n7:30 PM – 11:30 PM                   THURSDAY EVENING EVENT WITH DJ PHIL URBAN\nNOTED: ADDITIONAL CHARGE FOR THIS EVENT FOR NON-SPONSOR EXHIBITOR IF ATTENDING
URL:https://rcitech.com/event/scasbo-spring-2026-conference-and-exhibits/
LOCATION:Hilton Myrtle Beach Resort (10000 Beach Club Dr\, Myrtle Beach\, SC  29572)
CATEGORIES:Events
END:VEVENT
BEGIN:VEVENT
DTSTART;VALUE=DATE:20260219
DTEND;VALUE=DATE:20260222
DTSTAMP:20260423T132801
CREATED:20260105T213555Z
LAST-MODIFIED:20260221T100045Z
UID:7143-1771459200-1771718399@rcitech.com
SUMMARY:NMASBO New Mexico Association of School Business Officials
DESCRIPTION:More info to come
URL:https://rcitech.com/event/nmasbo-new-mexico-association-of-school-business-officials-3/
LOCATION:Albuquerque (Albuquerque\, New Mexico)
CATEGORIES:Events
END:VEVENT
BEGIN:VEVENT
DTSTART;VALUE=DATE:20251014
DTEND;VALUE=DATE:20251018
DTSTAMP:20260423T132801
CREATED:20250414T233546Z
LAST-MODIFIED:20250615T180042Z
UID:6976-1760400000-1760745599@rcitech.com
SUMMARY:80th Annual Texas Association of County Auditors Fall Conference
DESCRIPTION:
URL:https://rcitech.com/event/80th-annual-texas-association-of-county-auditors-fall-conference/
LOCATION:Hotel Contessa (306 W Market Street\, San Antonio\, TX  78205)
CATEGORIES:Events
END:VEVENT
BEGIN:VEVENT
DTSTART;VALUE=DATE:20251008
DTEND;VALUE=DATE:20251011
DTSTAMP:20260423T132801
CREATED:20250408T220611Z
LAST-MODIFIED:20250615T180042Z
UID:6966-1759881600-1760140799@rcitech.com
SUMMARY:LCC Annual Conference (League of California Cities) 2025 Annual Conference and Expo
DESCRIPTION:
URL:https://rcitech.com/event/lcc-annual-conference-league-of-california-cities-2025-annual-conference-and-expo/
LOCATION:Long Beach Convention Center
CATEGORIES:Events
END:VEVENT
BEGIN:VEVENT
DTSTART;VALUE=DATE:20250929
DTEND;VALUE=DATE:20251003
DTSTAMP:20260423T132801
CREATED:20250329T192038Z
LAST-MODIFIED:20250615T180042Z
UID:6946-1759104000-1759449599@rcitech.com
SUMMARY:CCBO Community College Business Officers
DESCRIPTION:
URL:https://rcitech.com/event/ccbo-community-college-business-officers-3/
LOCATION:The Westin Dallas – Stonebriar Golf Resort & Spa
CATEGORIES:Events
END:VEVENT
BEGIN:VEVENT
DTSTART;VALUE=DATE:20250910
DTEND;VALUE=DATE:20250913
DTSTAMP:20260423T132801
CREATED:20250310T133622Z
LAST-MODIFIED:20250615T180042Z
UID:6924-1757462400-1757721599@rcitech.com
SUMMARY:NMNASO Fall Conference
DESCRIPTION:
URL:https://rcitech.com/event/nmnaso-fall-conference/
LOCATION:Embassy Suites by Hilton Albuquerque (1000 Woodward Place NE\, Albuquerque\, NM  87102)
CATEGORIES:Events
END:VEVENT
BEGIN:VEVENT
DTSTART;VALUE=DATE:20250716
DTEND;VALUE=DATE:20250718
DTSTAMP:20260423T132801
CREATED:20250131T033620Z
LAST-MODIFIED:20250615T180042Z
UID:6872-1752624000-1752796799@rcitech.com
SUMMARY:TASPA - Texas Assoc. of School Personnel Administrators
DESCRIPTION:
URL:https://rcitech.com/event/taspa-texas-assoc-of-school-personnel-administrators-3/
CATEGORIES:Events
END:VEVENT
BEGIN:VEVENT
DTSTART;VALUE=DATE:20250602
DTEND;VALUE=DATE:20250606
DTSTAMP:20260423T132801
CREATED:20250130T032123Z
LAST-MODIFIED:20250605T152520Z
UID:6852-1748822400-1749167999@rcitech.com
SUMMARY:TACCBO Texas Association of Community College Business Annual Meeting and Conference
DESCRIPTION:
URL:https://rcitech.com/event/taccbo-texas-association-of-community-college-business-annual-meeting-and-conference/
LOCATION:Embassy Suites by Hilton San Marcos Hotel Conference Center (1001 E. McCarty Lane\, San Marcos\, TX  78666)
CATEGORIES:Events
END:VEVENT
BEGIN:VEVENT
DTSTART;VALUE=DATE:20250519
DTEND;VALUE=DATE:20250522
DTSTAMP:20260423T132801
CREATED:20250130T032123Z
LAST-MODIFIED:20250521T113018Z
UID:6850-1747612800-1747871999@rcitech.com
SUMMARY:ACBO California Spring Conference- Association of Chief Business Officals
DESCRIPTION:
URL:https://rcitech.com/event/acbo-california-spring-conference-association-of-chief-business-officals/
LOCATION:Lake Tahoe
CATEGORIES:Events
END:VEVENT
BEGIN:VEVENT
DTSTART;VALUE=DATE:20250423
DTEND;VALUE=DATE:20250426
DTSTAMP:20260423T132801
CREATED:20250130T032123Z
LAST-MODIFIED:20250425T021532Z
UID:6848-1745366400-1745625599@rcitech.com
SUMMARY:Casbo Colorado Spring Conference
DESCRIPTION:
URL:https://rcitech.com/event/casbo-colorado-spring-conference/
LOCATION:Pueblo Convention Center (320 Central Main St\, Pueblo\, CO  81003-4258)
CATEGORIES:Events
END:VEVENT
BEGIN:VEVENT
DTSTART;VALUE=DATE:20250414
DTEND;VALUE=DATE:20250418
DTSTAMP:20260423T132801
CREATED:20250130T032123Z
LAST-MODIFIED:20250417T002016Z
UID:6846-1744588800-1744934399@rcitech.com
SUMMARY:CASBO  2025 Annual Conference & California School Business Expo
DESCRIPTION:
URL:https://rcitech.com/event/casbo-2025-annual-conference-california-school-business-expo/
LOCATION:San Jose McEnery Convention Center (150 W San Carlos St\, San Jose\, CA  95113)
CATEGORIES:Events
END:VEVENT
BEGIN:VEVENT
DTSTART;VALUE=DATE:20250409
DTEND;VALUE=DATE:20250412
DTSTAMP:20260423T132801
CREATED:20250130T032123Z
LAST-MODIFIED:20250411T230047Z
UID:6844-1744156800-1744415999@rcitech.com
SUMMARY:NMASBO New Mexico Spring Budget Workshop
DESCRIPTION:
URL:https://rcitech.com/event/nmasbo-new-mexico-spring-budget-workshop/
LOCATION:Embassy Suites by Hilton Albuquerque (1000 Woodward Place NE\, Albuquerque\, NM  87102)
CATEGORIES:Events
END:VEVENT
BEGIN:VEVENT
DTSTART;VALUE=DATE:20250407
DTEND;VALUE=DATE:20250410
DTSTAMP:20260423T132801
CREATED:20250130T032123Z
LAST-MODIFIED:20250409T223008Z
UID:6843-1743984000-1744243199@rcitech.com
SUMMARY:ACCBO Conference - Embassy Suites in Concord\, NC
DESCRIPTION:
URL:https://rcitech.com/event/accbo-conference-embassy-suites-in-concord-nc/
LOCATION:Embassy Suites Golf Resort & Spa 5400 John Q Hammons Dr NW Concord\, Concord\, NC\, United States
CATEGORIES:Events
END:VEVENT
BEGIN:VEVENT
DTSTART;VALUE=DATE:20250402
DTEND;VALUE=DATE:20250403
DTSTAMP:20260423T132801
CREATED:20250130T032111Z
LAST-MODIFIED:20250402T204521Z
UID:6841-1743552000-1743638399@rcitech.com
SUMMARY:SASBO Southeastern Assoc. of School Business Officals\, New Orleans
DESCRIPTION:
URL:https://rcitech.com/event/sasbo-southeastern-assoc-of-school-business-officals-new-orleans-2/
LOCATION:Grapevine Convention Center
CATEGORIES:Events
END:VEVENT
BEGIN:VEVENT
DTSTART;VALUE=DATE:20250324
DTEND;VALUE=DATE:20250327
DTSTAMP:20260423T132801
CREATED:20250130T032111Z
LAST-MODIFIED:20250326T181548Z
UID:6839-1742774400-1743033599@rcitech.com
SUMMARY:SASBO Southeastern Assoc. of School Business Officals\, New Orleans
DESCRIPTION:
URL:https://rcitech.com/event/sasbo-southeastern-assoc-of-school-business-officals-new-orleans/
LOCATION:New Orleans
CATEGORIES:Events
END:VEVENT
BEGIN:VEVENT
DTSTART;VALUE=DATE:20250310
DTEND;VALUE=DATE:20250314
DTSTAMP:20260423T132801
CREATED:20241121T093542Z
LAST-MODIFIED:20250313T143033Z
UID:6743-1741564800-1741910399@rcitech.com
SUMMARY:CCSA- California Charter School Association
DESCRIPTION:
URL:https://rcitech.com/event/ccsa-california-charter-school-association-2/
LOCATION:SAFE Credit Union Convention Center (1400 J St\, Sacramento\, CA  95814)
CATEGORIES:Events
END:VEVENT
BEGIN:VEVENT
DTSTART;VALUE=DATE:20250304
DTEND;VALUE=DATE:20250308
DTSTAMP:20260423T132801
CREATED:20250130T032111Z
LAST-MODIFIED:20250307T130034Z
UID:6837-1741046400-1741391999@rcitech.com
SUMMARY:SCASBO SPRING\, 2025 CONFERENCE AND EXHIBIT
DESCRIPTION:
URL:https://rcitech.com/event/scasbo-spring-2025-conference-and-exhibit/
LOCATION:Hilton Myrtle Beach Resort (10000 Beach Club Drive\, Myrtle Beach\, SC  29572)
CATEGORIES:Events
END:VEVENT
BEGIN:VEVENT
DTSTART;VALUE=DATE:20250224
DTEND;VALUE=DATE:20250301
DTSTAMP:20260423T132801
CREATED:20250130T032111Z
LAST-MODIFIED:20250228T110045Z
UID:6835-1740355200-1740787199@rcitech.com
SUMMARY:TASBO Annual Convention Booth 432
DESCRIPTION:
URL:https://rcitech.com/event/tasbo-annual-convention-booth-432/
LOCATION:Austin Convention Center (500 E Cesar Chavez St\, Austin\, TX  78701)
CATEGORIES:Events
END:VEVENT
BEGIN:VEVENT
DTSTART;VALUE=DATE:20250224
DTEND;VALUE=DATE:20250226
DTSTAMP:20260423T132801
CREATED:20241121T093542Z
LAST-MODIFIED:20250225T101535Z
UID:6741-1740355200-1740527999@rcitech.com
SUMMARY:NBOA Annual Meeting
DESCRIPTION:
URL:https://rcitech.com/event/nboa-annual-meeting/
LOCATION:New York Marriott Marquis (1535 Broadway\, New York\, NY  10036)
CATEGORIES:Events
END:VEVENT
BEGIN:VEVENT
DTSTART;VALUE=DATE:20250219
DTEND;VALUE=DATE:20250222
DTSTAMP:20260423T132801
CREATED:20241121T093542Z
LAST-MODIFIED:20250221T091511Z
UID:6739-1739923200-1740182399@rcitech.com
SUMMARY:NMASBO New Mexico Association of School Business Officials
DESCRIPTION:
URL:https://rcitech.com/event/nmasbo-new-mexico-association-of-school-business-officials-2/
LOCATION:Embassy Suites by Hilton Albuquerque (1000 Woodward Place NE\, Albuquerque\, NM  87102)
CATEGORIES:Events
END:VEVENT
BEGIN:VEVENT
DTSTART;VALUE=DATE:20250216
DTEND;VALUE=DATE:20250220
DTSTAMP:20260423T132801
CREATED:20241121T093542Z
LAST-MODIFIED:20250219T085027Z
UID:6737-1739664000-1740009599@rcitech.com
SUMMARY:TAAD - Texas Association of Appraisal Districts
DESCRIPTION:
URL:https://rcitech.com/event/taad-texas-association-of-appraisal-districts-2/
LOCATION:JW Marriott Austin (110 E 2nd St\, Austin\, TX  78701)
CATEGORIES:Events
END:VEVENT
BEGIN:VEVENT
DTSTART;VALUE=DATE:20250212
DTEND;VALUE=DATE:20250215
DTSTAMP:20260423T132801
CREATED:20241121T093541Z
LAST-MODIFIED:20250214T073040Z
UID:6735-1739318400-1739577599@rcitech.com
SUMMARY:AASBO Arkansas Association of School Business Officials
DESCRIPTION:
URL:https://rcitech.com/event/aasbo-arkansas-association-of-school-business-officials/
LOCATION:Hot Springs Arkansas
CATEGORIES:Events
END:VEVENT
BEGIN:VEVENT
DTSTART;VALUE=DATE:20250201
DTEND;VALUE=DATE:20250206
DTSTAMP:20260423T132801
CREATED:20241121T093541Z
LAST-MODIFIED:20250205T050037Z
UID:6733-1738368000-1738799999@rcitech.com
SUMMARY:2025 TCEA Convention and Exposition (Texas Computer Education Association)
DESCRIPTION:
URL:https://rcitech.com/event/2025-tcea-convention-and-exposition-texas-computer-education-association/
LOCATION:Austin Convention Center
CATEGORIES:Events
END:VEVENT
BEGIN:VEVENT
DTSTART;VALUE=DATE:20250126
DTEND;VALUE=DATE:20250130
DTSTAMP:20260423T132801
CREATED:20241121T093541Z
LAST-MODIFIED:20250129T031519Z
UID:6732-1737849600-1738195199@rcitech.com
SUMMARY:TASA Midwinter Conference 2025
DESCRIPTION:
URL:https://rcitech.com/event/tasa-midwinter-conference-2025/
LOCATION:Austin Convention Center
CATEGORIES:Events
END:VEVENT
BEGIN:VEVENT
DTSTART;VALUE=DATE:20250123
DTEND;VALUE=DATE:20250125
DTSTAMP:20260423T132801
CREATED:20241121T093541Z
LAST-MODIFIED:20250124T020021Z
UID:6731-1737590400-1737763199@rcitech.com
SUMMARY:TMCA Annual Conference (Texas Municipal Clerks Association)
DESCRIPTION:
URL:https://rcitech.com/event/tmca-annual-conference-texas-municipal-clerks-association/
LOCATION:Roundrock\, TX
CATEGORIES:Events
END:VEVENT
BEGIN:VEVENT
DTSTART;VALUE=DATE:20241028
DTEND;VALUE=DATE:20241031
DTSTAMP:20260423T132801
CREATED:20240429T001623Z
LAST-MODIFIED:20241030T044019Z
UID:6473-1730073600-1730332799@rcitech.com
SUMMARY:ACBOCCC (Assoc. of Chief Business Officers)
DESCRIPTION:
URL:https://rcitech.com/event/acboccc-assoc-of-chief-business-officers/
LOCATION:San Diego\, CA
CATEGORIES:Events
END:VEVENT
BEGIN:VEVENT
DTSTART;VALUE=DATE:20241028
DTEND;VALUE=DATE:20241031
DTSTAMP:20260423T132801
CREATED:20240130T151940Z
LAST-MODIFIED:20240130T151940Z
UID:6237-1730073600-1730332799@rcitech.com
SUMMARY:ACBOCCC Conference (Association of Chief Business Officers) San Diego\, CA
DESCRIPTION:
URL:https://rcitech.com/event/acboccc-conference-association-of-chief-business-officers-san-diego-ca/
END:VEVENT
BEGIN:VEVENT
DTSTART;VALUE=DATE:20241026
DTEND;VALUE=DATE:20241028
DTSTAMP:20260423T132801
CREATED:20240130T152045Z
LAST-MODIFIED:20240130T152045Z
UID:6239-1729900800-1730073599@rcitech.com
SUMMARY:NMPPA Conference (New Mexico Public Purchasing Association) Albuquerque\, NM
DESCRIPTION:
URL:https://rcitech.com/event/nmppa-conference-new-mexico-public-purchasing-association-albuquerque-nm/
END:VEVENT
BEGIN:VEVENT
DTSTART;VALUE=DATE:20241021
DTEND;VALUE=DATE:20241024
DTSTAMP:20260423T132801
CREATED:20240421T223548Z
LAST-MODIFIED:20241023T025527Z
UID:6463-1729468800-1729727999@rcitech.com
SUMMARY:TPSCA Texas Charter Schools Annual Conference
DESCRIPTION:
URL:https://rcitech.com/event/tpsca-texas-charter-schools-annual-conference/
LOCATION:San Antonio\, TX
CATEGORIES:Events
END:VEVENT
BEGIN:VEVENT
DTSTART;VALUE=DATE:20241021
DTEND;VALUE=DATE:20241024
DTSTAMP:20260423T132801
CREATED:20240130T151757Z
LAST-MODIFIED:20240130T151757Z
UID:6235-1729468800-1729727999@rcitech.com
SUMMARY:TPSCA Annual Conference (Texas Charter Schools)  San Antonio\, TX
DESCRIPTION:
URL:https://rcitech.com/event/tpsca-annual-conference-texas-charter-schools-san-antonio-tx/
END:VEVENT
END:VCALENDAR