BEGIN:VCALENDAR
VERSION:2.0
PRODID:-//RCI Tech - ECPv6.15.20//NONSGML v1.0//EN
CALSCALE:GREGORIAN
METHOD:PUBLISH
X-WR-CALNAME:RCI Tech
X-ORIGINAL-URL:https://rcitech.com
X-WR-CALDESC:Events for RCI Tech
REFRESH-INTERVAL;VALUE=DURATION:PT1H
X-Robots-Tag:noindex
X-PUBLISHED-TTL:PT1H
BEGIN:VTIMEZONE
TZID:America/Chicago
BEGIN:DAYLIGHT
TZOFFSETFROM:-0600
TZOFFSETTO:-0500
TZNAME:CDT
DTSTART:20240310T080000
END:DAYLIGHT
BEGIN:STANDARD
TZOFFSETFROM:-0500
TZOFFSETTO:-0600
TZNAME:CST
DTSTART:20241103T070000
END:STANDARD
BEGIN:DAYLIGHT
TZOFFSETFROM:-0600
TZOFFSETTO:-0500
TZNAME:CDT
DTSTART:20250309T080000
END:DAYLIGHT
BEGIN:STANDARD
TZOFFSETFROM:-0500
TZOFFSETTO:-0600
TZNAME:CST
DTSTART:20251102T070000
END:STANDARD
BEGIN:DAYLIGHT
TZOFFSETFROM:-0600
TZOFFSETTO:-0500
TZNAME:CDT
DTSTART:20260308T080000
END:DAYLIGHT
BEGIN:STANDARD
TZOFFSETFROM:-0500
TZOFFSETTO:-0600
TZNAME:CST
DTSTART:20261101T070000
END:STANDARD
END:VTIMEZONE
BEGIN:VEVENT
DTSTART;VALUE=DATE:20251014
DTEND;VALUE=DATE:20251018
DTSTAMP:20260423T235443
CREATED:20250414T233546Z
LAST-MODIFIED:20250615T180042Z
UID:6976-1760400000-1760745599@rcitech.com
SUMMARY:80th Annual Texas Association of County Auditors Fall Conference
DESCRIPTION:
URL:https://rcitech.com/event/80th-annual-texas-association-of-county-auditors-fall-conference/
LOCATION:Hotel Contessa (306 W Market Street\, San Antonio\, TX  78205)
CATEGORIES:Events
END:VEVENT
END:VCALENDAR